BEGIN:VCALENDAR
METHOD:PUBLISH
VERSION:2.0
PRODID:-//Eventilla iCal Syndication//NONSGML Liana//EN
BEGIN:VEVENT
UID:zWLbv@eventilla.com
DTSTAMP:20260422T080000Z
DTSTART:20260422T080000Z
DTEND:20260422T090000Z
SUMMARY:How to become an entrepreneur in Finland?
DESCRIPTION:Free entrepreneurship information online.
LOCATION:Webinaari
URL:http://tapahtumat.ladec.fi/suk-webinar-220426
END:VEVENT
END:VCALENDAR
