BEGIN:VCALENDAR
METHOD:PUBLISH
VERSION:2.0
PRODID:-//Eventilla iCal Syndication//NONSGML Liana//EN
BEGIN:VEVENT
UID:pJakO@eventilla.com
DTSTAMP:20250129T063000Z
DTSTART:20250129T063000Z
DTEND:20250129T110000Z
SUMMARY:Kohti Kansainvälistä Kasvua – Kick off -tilaisuus
DESCRIPTION:Tilaisuus on suunnattu kaikille kansainvälisestä liiketoiminnasta kiinnostuneille yrityksille – olitpa vasta suunnittelemassa ensimmäisiä askelia ulkomaille tai jo kokeneempi kansainvälistyjä.
LOCATION:Malski, Sammiosali\, Päijänteenkatu 9-11\, 15140\, Lahti\,
 Suomi
URL:http://tapahtumat.ladec.fi/kickoff
END:VEVENT
END:VCALENDAR
