BEGIN:VCALENDAR
METHOD:PUBLISH
VERSION:2.0
PRODID:-//Eventilla iCal Syndication//NONSGML Liana//EN
BEGIN:VEVENT
UID:edzRd@eventilla.com
DTSTAMP:20250901T070000Z
DTSTART:20250901T070000Z
DTEND:20250901T090000Z
SUMMARY:Team Finland Latin America calls Lahti region – Business Opportunities & Networking
DESCRIPTION:Welcome to explore business opportunities in Latin America! Team Finland’s Latin America network invites companies and stakeholders from the Lahti region to discover current business opportunities in one of the world’s most dynamic growth markets.
LOCATION:Lahti City Hall\, Harjukatu 31\, 15100\, Lahti\, Suomi
URL:http://tapahtumat.ladec.fi/latinamerica
END:VEVENT
END:VCALENDAR
