BEGIN:VCALENDAR
METHOD:PUBLISH
VERSION:2.0
PRODID:-//Eventilla iCal Syndication//NONSGML Liana//EN
BEGIN:VEVENT
UID:VEz2d@eventilla.com
DTSTAMP:20260428T100000Z
DTSTART:20260428T100000Z
DTEND:20260428T130000Z
SUMMARY:Yritysneuvojamme Orimattilassa - Omistajanvaihdos
DESCRIPTION:Harkitsetko yrityksen myyntiä tai ostoa\, mutta et tiedä seuraavaa askelta? Tule maksuttomaan yritysneuvontaan Orimattilaan!
LOCATION:Orimattilan kaupungintalo, 1. kerroksen neuvotteluhuone\,
 Erkontie 9\, 16300\, Orimattila\, Suomi
URL:http://tapahtumat.ladec.fi/orimattila-omistajanvaihdos
END:VEVENT
END:VCALENDAR
