BEGIN:VCALENDAR
METHOD:PUBLISH
VERSION:2.0
PRODID:-//Eventilla iCal Syndication//NONSGML Liana//EN
BEGIN:VEVENT
UID:Q3X4K@eventilla.com
DTSTAMP:20260422T104500Z
DTSTART:20260422T104500Z
DTEND:20260422T123000Z
SUMMARY:Valoa vai varjoja horisontissa? Meriteollisuuden tila 2025
DESCRIPTION:Meriteollisuuden nykytila 2025 tuloswebinaari
LOCATION:Webinaari
URL:http://tapahtumat.ladec.fi/meriteollisuuden-nykytila-2025
END:VEVENT
END:VCALENDAR
