BEGIN:VCALENDAR
METHOD:PUBLISH
VERSION:2.0
PRODID:-//Eventilla iCal Syndication//NONSGML Liana//EN
BEGIN:VEVENT
UID:PPVrW@eventilla.com
DTSTAMP:20241003T120000Z
DTSTART:20241003T120000Z
DTEND:20241003T131500Z
SUMMARY:Webinaari - osa 2/2: Miten päivänpolitiikka vaikuttaa liiketoimintaan?
DESCRIPTION:Lahden seudun sähköisen liikenteen klusterin (Lahti GEM) jäsenet: Tervetuloa kuulemaan USA:n markkinoiden mahdollisuuksista!
LOCATION:Webinaari - Microsoft Teams\, Suomi
URL:http://tapahtumat.ladec.fi/usa-webinaari-3-10-2024
END:VEVENT
END:VCALENDAR
