BEGIN:VCALENDAR
METHOD:PUBLISH
VERSION:2.0
PRODID:-//Eventilla iCal Syndication//NONSGML Liana//EN
BEGIN:VEVENT
UID:Ol8pz@eventilla.com
DTSTAMP:20240905T120000Z
DTSTART:20240905T120000Z
DTEND:20240905T130000Z
SUMMARY:Webinaari - osa 1/2: Miten lähestyä Yhdysvaltain markkinaa?
DESCRIPTION:Lahden seudun sähköisen liikenteen klusterin (Lahti GEM) jäsenet: Tervetuloa kuulemaan USA:n markkinoiden mahdollisuuksista!
LOCATION:Webinaari - Microsoft Teams\, Suomi
URL:http://tapahtumat.ladec.fi/usa-webinaari-5-9-2024
END:VEVENT
END:VCALENDAR
