BEGIN:VCALENDAR
METHOD:PUBLISH
VERSION:2.0
PRODID:-//Eventilla iCal Syndication//NONSGML Liana//EN
BEGIN:VEVENT
UID:9qVo6@eventilla.com
DTSTAMP:20250522T053000Z
DTSTART:20250522T053000Z
DTEND:20250522T090000Z
SUMMARY:Tekoälystä vauhtia liiketoimintaasi
DESCRIPTION:Tervetuloa Tekoäly vauhdittaa liiketoimintaasi – nyt ja käytännössä -tilaisuuteen Wanhalle Walimolle!
LOCATION:Wanha Walimo\, Vesijärvenkatu 25\, 15140\, Lahti\, Suomi
URL:http://tapahtumat.ladec.fi/ai-2025
END:VEVENT
END:VCALENDAR
