BEGIN:VCALENDAR
METHOD:PUBLISH
VERSION:2.0
PRODID:-//Eventilla iCal Syndication//NONSGML Liana//EN
BEGIN:VEVENT
UID:9lL9z@eventilla.com
DTSTAMP:20260505T051500Z
DTSTART:20260505T051500Z
DTEND:20260505T080000Z
SUMMARY:Hollola verkostoituu - Fasetti & HT Collection
DESCRIPTION:Hollola verkostoituu -tapahtumassa tiistaina 5.5. tutustutaan kahden huonekaluteollisuuden yrityksen toimintaan. Tervetuloa!
LOCATION:HT Collection\, Soisalmentie 1\, 15860\, Hollola\, Suomi
URL:http://tapahtumat.ladec.fi/hollola-verkostoituu-050526
END:VEVENT
END:VCALENDAR
