BEGIN:VCALENDAR
METHOD:PUBLISH
VERSION:2.0
PRODID:-//Eventilla iCal Syndication//NONSGML Liana//EN
BEGIN:VEVENT
UID:6QPL4@eventilla.com
DTSTAMP:20260423T060000Z
DTSTART:20260423T060000Z
DTEND:20260423T090000Z
SUMMARY:Yritysneuvoja tavattavissa Hartolassa
DESCRIPTION:Onko sinulla jokin yritykseesi liittyvä kysymys\, joka mietityttää juuri nyt? Tule maksuttomaan yritysneuvontaan Hartolaan!
LOCATION:Hartolan kunnantalo\, Kuninkaantie 16\, 19600\, Hartola\, Suomi
URL:http://tapahtumat.ladec.fi/event/6QPL4
END:VEVENT
END:VCALENDAR
