BEGIN:VCALENDAR
METHOD:PUBLISH
VERSION:2.0
PRODID:-//Eventilla iCal Syndication//NONSGML Liana//EN
BEGIN:VEVENT
UID:6P2v4@eventilla.com
DTSTAMP:20230829T053000Z
DTSTART:20230829T053000Z
DTEND:20230829T080000Z
SUMMARY:Sähköisen liikenteen klusteritapaaminen
DESCRIPTION:Ilmoittaudu tilaisuuteen viimeistään 23.8. alla olevan Ilmoittaudu-painikkeen kautta.
LOCATION:Crazy Town Lahti\, Aleksanterinkatu 16\, 15110\, Lahti\, Suomi
URL:http://tapahtumat.ladec.fi/klusteritapaaminen-29-8-2023
END:VEVENT
END:VCALENDAR
